BEGIN:VCALENDAR
VERSION:2.0
PRODID:-//CEREFIGE - ECPv6.15.20//NONSGML v1.0//EN
CALSCALE:GREGORIAN
METHOD:PUBLISH
X-ORIGINAL-URL:https://cerefige.univ-lorraine.fr
X-WR-CALDESC:Évènements pour CEREFIGE
REFRESH-INTERVAL;VALUE=DURATION:PT1H
X-Robots-Tag:noindex
X-PUBLISHED-TTL:PT1H
BEGIN:VTIMEZONE
TZID:Europe/Paris
BEGIN:DAYLIGHT
TZOFFSETFROM:+0100
TZOFFSETTO:+0200
TZNAME:CEST
DTSTART:20250330T010000
END:DAYLIGHT
BEGIN:STANDARD
TZOFFSETFROM:+0200
TZOFFSETTO:+0100
TZNAME:CET
DTSTART:20251026T010000
END:STANDARD
BEGIN:DAYLIGHT
TZOFFSETFROM:+0100
TZOFFSETTO:+0200
TZNAME:CEST
DTSTART:20260329T010000
END:DAYLIGHT
BEGIN:STANDARD
TZOFFSETFROM:+0200
TZOFFSETTO:+0100
TZNAME:CET
DTSTART:20261025T010000
END:STANDARD
BEGIN:DAYLIGHT
TZOFFSETFROM:+0100
TZOFFSETTO:+0200
TZNAME:CEST
DTSTART:20270328T010000
END:DAYLIGHT
BEGIN:STANDARD
TZOFFSETFROM:+0200
TZOFFSETTO:+0100
TZNAME:CET
DTSTART:20271031T010000
END:STANDARD
END:VTIMEZONE
BEGIN:VEVENT
DTSTART;TZID=Europe/Paris:20260428T100000
DTEND;TZID=Europe/Paris:20260428T160000
DTSTAMP:20260422T133752
CREATED:20251017T143251Z
LAST-MODIFIED:20251017T145148Z
UID:17968-1777370400-1777392000@cerefige.univ-lorraine.fr
SUMMARY:Marketing 28/04/26 | 10h - 16h Atelier n°2
DESCRIPTION:
URL:https://cerefige.univ-lorraine.fr/event/marketing-28-04-26-10h-16h-atelier-n2/
LOCATION:Maison de la Recherche\, Salle des séminaires – Nancy\, 23-25 rue Baron Louis\, Nancy\, 54000\, France
CATEGORIES:Réunion d'équipe,Réunion Marketing
END:VEVENT
END:VCALENDAR