BEGIN:VCALENDAR
VERSION:2.0
PRODID:-//CEREFIGE - ECPv6.15.20//NONSGML v1.0//EN
CALSCALE:GREGORIAN
METHOD:PUBLISH
X-ORIGINAL-URL:https://cerefige.univ-lorraine.fr
X-WR-CALDESC:Évènements pour CEREFIGE
REFRESH-INTERVAL;VALUE=DURATION:PT1H
X-Robots-Tag:noindex
X-PUBLISHED-TTL:PT1H
BEGIN:VTIMEZONE
TZID:Europe/Paris
BEGIN:DAYLIGHT
TZOFFSETFROM:+0100
TZOFFSETTO:+0200
TZNAME:CEST
DTSTART:20220327T010000
END:DAYLIGHT
BEGIN:STANDARD
TZOFFSETFROM:+0200
TZOFFSETTO:+0100
TZNAME:CET
DTSTART:20221030T010000
END:STANDARD
BEGIN:DAYLIGHT
TZOFFSETFROM:+0100
TZOFFSETTO:+0200
TZNAME:CEST
DTSTART:20230326T010000
END:DAYLIGHT
BEGIN:STANDARD
TZOFFSETFROM:+0200
TZOFFSETTO:+0100
TZNAME:CET
DTSTART:20231029T010000
END:STANDARD
BEGIN:DAYLIGHT
TZOFFSETFROM:+0100
TZOFFSETTO:+0200
TZNAME:CEST
DTSTART:20240331T010000
END:DAYLIGHT
BEGIN:STANDARD
TZOFFSETFROM:+0200
TZOFFSETTO:+0100
TZNAME:CET
DTSTART:20241027T010000
END:STANDARD
END:VTIMEZONE
BEGIN:VEVENT
DTSTART;TZID=Europe/Paris:20230202T170000
DTEND;TZID=Europe/Paris:20230202T190000
DTSTAMP:20260422T000652
CREATED:20230116T123944Z
LAST-MODIFIED:20230116T124159Z
UID:12864-1675357200-1675364400@cerefige.univ-lorraine.fr
SUMMARY:La place des salariés dans la gouvernance des entreprises
DESCRIPTION:L’axe scientifique prioritaire Développement Durable et Créativité du CEREFIGE organise en collaboration avec la chaire UNESCO de l’ICN Business School un workshop sur la méthode de la déviance positive et le changement social présenté par le professeur Arvind Singhal (University of Texas\, El Paso).\nAvec des contributions majeures dans le domaine de l’innovation\, de la déviance positive et de l’éducation par le divertissement et des projets dans le monde entier notamment sur le dialogue Nord-Sud\, Arvind Singhal se concentre principalement sur la recherche-action et l’implémentation. \nPour télécharger le flyer récapitulatif\, cliquez ici.  \n 								\n				\n					\n		\n					\n		\n				\n						\n					\n			\n						\n				\n									Programme du WORKSHOP du 15/03/2024 : 								\n				\n				\n				\n									\nIntroduction à la méthode de la déviance positive\, contexte et philosophie\nExemples de cas de projets de DP\nApprendre à appliquer la méthode en discutant de la recherche (action) individuelle des participants\nLier la méthode à la recherche individuelle\nDiscuter de la manière dont la méthode peut être connectée à d’autres approches telles que l’intervention artistique\, le design thinking\, la modélisation ludique. 
URL:https://cerefige.univ-lorraine.fr/event/la-place-des-salaries-dans-la-gouvernance-des-entreprises/
LOCATION:IAE Nancy School of Management – ARTEM (Amphi B)\, 94 - 86 Rue Sergent Blandan\, Nancy\, Meurthe-et-Moselle\, 54000\, France
CATEGORIES:Manifestation scientifique
ATTACH;FMTTYPE=image/jpeg:https://cerefige.univ-lorraine.fr/wp-content/uploads/2022/11/ouvrage-xaubert.jpg
END:VEVENT
END:VCALENDAR