BEGIN:VCALENDAR
VERSION:2.0
PRODID:-//CEREFIGE - ECPv6.15.20//NONSGML v1.0//EN
CALSCALE:GREGORIAN
METHOD:PUBLISH
X-WR-CALNAME:CEREFIGE
X-ORIGINAL-URL:https://cerefige.univ-lorraine.fr
X-WR-CALDESC:Évènements pour CEREFIGE
REFRESH-INTERVAL;VALUE=DURATION:PT1H
X-Robots-Tag:noindex
X-PUBLISHED-TTL:PT1H
BEGIN:VTIMEZONE
TZID:Europe/Paris
BEGIN:DAYLIGHT
TZOFFSETFROM:+0100
TZOFFSETTO:+0200
TZNAME:CEST
DTSTART:20250330T010000
END:DAYLIGHT
BEGIN:STANDARD
TZOFFSETFROM:+0200
TZOFFSETTO:+0100
TZNAME:CET
DTSTART:20251026T010000
END:STANDARD
BEGIN:DAYLIGHT
TZOFFSETFROM:+0100
TZOFFSETTO:+0200
TZNAME:CEST
DTSTART:20260329T010000
END:DAYLIGHT
BEGIN:STANDARD
TZOFFSETFROM:+0200
TZOFFSETTO:+0100
TZNAME:CET
DTSTART:20261025T010000
END:STANDARD
BEGIN:DAYLIGHT
TZOFFSETFROM:+0100
TZOFFSETTO:+0200
TZNAME:CEST
DTSTART:20270328T010000
END:DAYLIGHT
BEGIN:STANDARD
TZOFFSETFROM:+0200
TZOFFSETTO:+0100
TZNAME:CET
DTSTART:20271031T010000
END:STANDARD
END:VTIMEZONE
BEGIN:VEVENT
DTSTART;TZID=Europe/Paris:20260324T113000
DTEND;TZID=Europe/Paris:20260324T190000
DTSTAMP:20260424T140434
CREATED:20250908T092629Z
LAST-MODIFIED:20260217T123825Z
UID:17766-1774351800-1774378800@cerefige.univ-lorraine.fr
SUMMARY:Journée de la recherche régionale de l'AFFI\, Grand Est / AFFI Research Day in Grand Est
DESCRIPTION:L’Association Française de FInance (AFFI) lance ses journées de la recherche régionale dont le but est de faire connaître les travaux des enseignants-chercheurs en finance et de favoriser les échanges au niveau local.\nCoorganisée par le CEREFIGE\, le LARGE (Université de Strasbourg) et le CREGO (Université Bourgogne Europe)\, l’objectif de cette première journée de la recherche régionale\, qui se déroulera le 24 mars 2026 à Nancy\, est de rapprocher les différentes équipes de recherche et de créer un espace propice au développement de projets de collaboration entre les unités de recherche des établissements universitaires du Grand Est. \nLe programme de cette journée est désormais disponible. Vous pouvez le télecharger ou le consulter ici : \nAFFI's Research Finance Day in Grand Est 2026_Programme
URL:https://cerefige.univ-lorraine.fr/event/journee-de-la-recherche-regionale-de-laffi-grand-est-affi-research-day-in-grand-est/
LOCATION:Maison de la Recherche\, Salle des séminaires – Nancy\, 23-25 rue Baron Louis\, Nancy\, 54000\, France
CATEGORIES:Manifestation scientifique
END:VEVENT
END:VCALENDAR