BEGIN:VCALENDAR
VERSION:2.0
PRODID:-//CEREFIGE - ECPv6.15.20//NONSGML v1.0//EN
CALSCALE:GREGORIAN
METHOD:PUBLISH
X-ORIGINAL-URL:https://cerefige.univ-lorraine.fr
X-WR-CALDESC:Évènements pour CEREFIGE
REFRESH-INTERVAL;VALUE=DURATION:PT1H
X-Robots-Tag:noindex
X-PUBLISHED-TTL:PT1H
BEGIN:VTIMEZONE
TZID:Europe/Paris
BEGIN:DAYLIGHT
TZOFFSETFROM:+0100
TZOFFSETTO:+0200
TZNAME:CEST
DTSTART:20220327T010000
END:DAYLIGHT
BEGIN:STANDARD
TZOFFSETFROM:+0200
TZOFFSETTO:+0100
TZNAME:CET
DTSTART:20221030T010000
END:STANDARD
BEGIN:DAYLIGHT
TZOFFSETFROM:+0100
TZOFFSETTO:+0200
TZNAME:CEST
DTSTART:20230326T010000
END:DAYLIGHT
BEGIN:STANDARD
TZOFFSETFROM:+0200
TZOFFSETTO:+0100
TZNAME:CET
DTSTART:20231029T010000
END:STANDARD
BEGIN:DAYLIGHT
TZOFFSETFROM:+0100
TZOFFSETTO:+0200
TZNAME:CEST
DTSTART:20240331T010000
END:DAYLIGHT
BEGIN:STANDARD
TZOFFSETFROM:+0200
TZOFFSETTO:+0100
TZNAME:CET
DTSTART:20241027T010000
END:STANDARD
END:VTIMEZONE
BEGIN:VEVENT
DTSTART;TZID=Europe/Paris:20230323T183000
DTEND;TZID=Europe/Paris:20230323T183000
DTSTAMP:20260421T141537
CREATED:20230302T141314Z
LAST-MODIFIED:20230330T120445Z
UID:13531-1679596200-1679596200@cerefige.univ-lorraine.fr
SUMMARY:L'analyse des DATA au service des actions de prévention : appui pour la fonction RH et le dialogue social ?
DESCRIPTION:/ Un événement organisé par :				\n				\n					\n		\n				\n			\n						\n				\n												\n											\n															\n											\n										\n									\n				\n					\n		\n				\n			\n						\n				\n																\n															\n															\n				\n					\n		\n				\n			\n						\n				\n																\n															\n															\n				\n					\n		\n					\n		\n				\n						\n					\n			\n						\n						\n					\n			\n						\n				\n					/ Rendez-vous...				\n				\n				\n				\n								\n				\n							\n								\n																			\n																						\n									\n									\n										 23 Mars 2022 | 18h30-21h00 																			\n								\n\n								\n								\n							\n\n							\n							\n								\n																			\n																						\n									\n									\n										 IAE Nancy School of Management (ARTEM - Amphi B) 																			\n								\n\n								\n																	\n										IAE Nancy School of Management (ARTEM - Amphi B)\n									\n								\n							\n\n										\n						\n				\n					\n		\n					\n		\n				\n				\n									 \nLes Prs Yves Moulin et Anne Stévenot\, en partenariat avec Axa Santé et Collectives organisent une Table ronde le jeudi 23 mars à 18h30\, amphi B à l’IAE Nancy School of Management (Campus Artem)\nLes acteurs de cette table ronde sont : \n\nClotilde CORON\, Professeure des Universités en Sciences de gestion à l’Université Paris-Saclay\, membre du laboratoire RITM\nDavid HUYNH\, Responsable protection sociale complémentaire de la CGT Cadres Ingénieurs (UGICT-CGT)\nYves HERAULT\, Fabienne CAZALS et Jérôme BROSSEAUD\, Direction DATA chez AXA Santé & Collective\nSophie MANDELBAUM\, Expert dialogue social chez AXA Santé & Collectives\nYannick TOUSSAINT\, Professeur à l’Ecole des Mines de Nancy et directeur adjoint du LORIA (Université de Lorraine)\n\nLe suivi de la conférence à distance est également possible à cette adresse.
URL:https://cerefige.univ-lorraine.fr/event/lanalyse-des-data-au-service-des-actions-de-prevention-appui-pour-la-fonction-rh-et-le-dialogue-social/
LOCATION:IAE Nancy School of Management – ARTEM (Amphi B)\, 94 - 86 Rue Sergent Blandan\, Nancy\, Meurthe-et-Moselle\, 54000\, France
CATEGORIES:Manifestation scientifique
ATTACH;FMTTYPE=image/jpeg:https://cerefige.univ-lorraine.fr/wp-content/uploads/2023/03/Analyse-data.jpg
END:VEVENT
END:VCALENDAR