BEGIN:VCALENDAR
VERSION:2.0
PRODID:-//CEREFIGE - ECPv6.15.20//NONSGML v1.0//EN
CALSCALE:GREGORIAN
METHOD:PUBLISH
X-WR-CALNAME:CEREFIGE
X-ORIGINAL-URL:https://cerefige.univ-lorraine.fr
X-WR-CALDESC:Évènements pour CEREFIGE
REFRESH-INTERVAL;VALUE=DURATION:PT1H
X-Robots-Tag:noindex
X-PUBLISHED-TTL:PT1H
BEGIN:VTIMEZONE
TZID:Europe/Paris
BEGIN:DAYLIGHT
TZOFFSETFROM:+0100
TZOFFSETTO:+0200
TZNAME:CEST
DTSTART:20250330T010000
END:DAYLIGHT
BEGIN:STANDARD
TZOFFSETFROM:+0200
TZOFFSETTO:+0100
TZNAME:CET
DTSTART:20251026T010000
END:STANDARD
BEGIN:DAYLIGHT
TZOFFSETFROM:+0100
TZOFFSETTO:+0200
TZNAME:CEST
DTSTART:20260329T010000
END:DAYLIGHT
BEGIN:STANDARD
TZOFFSETFROM:+0200
TZOFFSETTO:+0100
TZNAME:CET
DTSTART:20261025T010000
END:STANDARD
BEGIN:DAYLIGHT
TZOFFSETFROM:+0100
TZOFFSETTO:+0200
TZNAME:CEST
DTSTART:20270328T010000
END:DAYLIGHT
BEGIN:STANDARD
TZOFFSETFROM:+0200
TZOFFSETTO:+0100
TZNAME:CET
DTSTART:20271031T010000
END:STANDARD
END:VTIMEZONE
BEGIN:VEVENT
DTSTART;TZID=Europe/Paris:20260114T140000
DTEND;TZID=Europe/Paris:20260114T160000
DTSTAMP:20260425T002552
CREATED:20251215T100833Z
LAST-MODIFIED:20260121T073657Z
UID:18365-1768399200-1768406400@cerefige.univ-lorraine.fr
SUMMARY:"La normalisation comptable internationale comme jeu politique : son passé\, son présent et son avenir"
DESCRIPTION:L’IAE Nancy School of Management\, en association avec le CEREFIGE\, a eu le plaisir d’accueillir Bernard Colasse\, Professeur émérite à l’Université Paris Dauphine\, pour une conférence sur le thème :\n« La normalisation comptable internationale comme jeu politique : son passé\, son présent et son avenir ». \nCette conférence s’est tenue le 14 janvier 2026 de 14h à 16h à l’IAE Nancy School of Management – campus ARTEM et vous pouvez en retrouver l’enregistrement ci-dessous. \n \nUne bibliographie était proposée par l’intervenant\, Bernard Colasse \nBibliographie_Conférence B. Colasse_14012026
URL:https://cerefige.univ-lorraine.fr/event/la-normalisation-comptable-internationale-comme-jeu-politique-son-passe-son-present-et-son-avenir/
LOCATION:IAE Nancy School of Management – ARTEM (Amphi B)\, 94 - 86 Rue Sergent Blandan\, Nancy\, Meurthe-et-Moselle\, 54000\, France
CATEGORIES:Manifestation scientifique
END:VEVENT
END:VCALENDAR