BEGIN:VCALENDAR
VERSION:2.0
PRODID:-//CEREFIGE - ECPv6.15.20//NONSGML v1.0//EN
CALSCALE:GREGORIAN
METHOD:PUBLISH
X-WR-CALNAME:CEREFIGE
X-ORIGINAL-URL:https://cerefige.univ-lorraine.fr
X-WR-CALDESC:Évènements pour CEREFIGE
REFRESH-INTERVAL;VALUE=DURATION:PT1H
X-Robots-Tag:noindex
X-PUBLISHED-TTL:PT1H
BEGIN:VTIMEZONE
TZID:Europe/Paris
BEGIN:DAYLIGHT
TZOFFSETFROM:+0100
TZOFFSETTO:+0200
TZNAME:CEST
DTSTART:20250330T010000
END:DAYLIGHT
BEGIN:STANDARD
TZOFFSETFROM:+0200
TZOFFSETTO:+0100
TZNAME:CET
DTSTART:20251026T010000
END:STANDARD
BEGIN:DAYLIGHT
TZOFFSETFROM:+0100
TZOFFSETTO:+0200
TZNAME:CEST
DTSTART:20260329T010000
END:DAYLIGHT
BEGIN:STANDARD
TZOFFSETFROM:+0200
TZOFFSETTO:+0100
TZNAME:CET
DTSTART:20261025T010000
END:STANDARD
BEGIN:DAYLIGHT
TZOFFSETFROM:+0100
TZOFFSETTO:+0200
TZNAME:CEST
DTSTART:20270328T010000
END:DAYLIGHT
BEGIN:STANDARD
TZOFFSETFROM:+0200
TZOFFSETTO:+0100
TZNAME:CET
DTSTART:20271031T010000
END:STANDARD
END:VTIMEZONE
BEGIN:VEVENT
DTSTART;TZID=Europe/Paris:20260512T090000
DTEND;TZID=Europe/Paris:20260512T160000
DTSTAMP:20260422T000524
CREATED:20260112T122800Z
LAST-MODIFIED:20260414T144828Z
UID:18466-1778576400-1778601600@cerefige.univ-lorraine.fr
SUMMARY:Journée CEROS-CEREFIGE | 12/05/2026 9h-16h
DESCRIPTION:Le workshop\, organisé conjointement par les équipes du CEROS et du CEREFIGE\, réunira enseignants-chercheurs et doctorants afin de favoriser des échanges scientifiques approfondis sur les enjeux organisationnels des transitions. Cette journée\, qui se déroulera dans les locaux de l’IAE Metz\, pourra également être suivie à distance en cliquant ici \nQuatrième édition du Workshop CEROS
URL:https://cerefige.univ-lorraine.fr/event/journee-cerefige-ceros/
LOCATION:IAE Metz School of Management\, 1 rue Augustin Fresnel\, Metz\, 57070\, France
CATEGORIES:Manifestation scientifique
END:VEVENT
BEGIN:VEVENT
DTSTART;VALUE=DATE:20260519
DTEND;VALUE=DATE:20260522
DTSTAMP:20260422T000524
CREATED:20250909T150811Z
LAST-MODIFIED:20260123T100002Z
UID:17805-1779148800-1779407999@cerefige.univ-lorraine.fr
SUMMARY:47ème Congrès de l'AFC du 19 au 21 mai 2026
DESCRIPTION:L’Association Francophone de Comptabilité et le CEREFIGE organisent le 47ème Congrès de l’AFC du 19 au 21 mai 2026\, dans les locaux de l’IAE Nancy School of Management – Pôle Herbert Simon\, à Nancy. \nLes communications sont à soumettre avant le 15 janvier 2026 pour une notification aux auteurs au 31 mars. \nL’appel à communications est consultable ici  \n47-AFC_Appel_A_Communication\nPLUS D’INFORMATIONS A VENIR \n– – –\nThe 47th AFC (Association Francophone de Comptabilité) Congress will be organized by the AFC and the CEREFIGE in IAE Nancy School of Management – Pôle Herbert Simon\, Nancy\, from 19 to 21 May 2026. \nPapers must be submitted by 15 January 2026 for notification to authors by 31 March. \nThe call for papers (in English) can be viewed here  \nAppel_A_CommunicationFR-V2\nMORE INFORMATION TO COME
URL:https://cerefige.univ-lorraine.fr/event/47eme-congres-de-lafc-du-19-au-21-mai-2026/
LOCATION:IAE Nancy School of Management – Campus Manufacture\, 13 rue Michel Ney\, Nancy\, Lorraine\, 54000\, France
CATEGORIES:Manifestation scientifique
END:VEVENT
BEGIN:VEVENT
DTSTART;VALUE=DATE:20260608
DTEND;VALUE=DATE:20260610
DTSTAMP:20260422T000524
CREATED:20260105T121400Z
LAST-MODIFIED:20260107T155630Z
UID:18458-1780876800-1781049599@cerefige.univ-lorraine.fr
SUMMARY:Journées de recherche « Le reporting extra-financier »
DESCRIPTION:
URL:https://cerefige.univ-lorraine.fr/event/journees-de-recherche-reporting-extra-financier/
LOCATION:Maison de la Recherche\, Salle des séminaires – Nancy\, 23-25 rue Baron Louis\, Nancy\, 54000\, France
CATEGORIES:Manifestation scientifique
END:VEVENT
BEGIN:VEVENT
DTSTART;TZID=Europe/Paris:20260616T090000
DTEND;TZID=Europe/Paris:20260616T120000
DTSTAMP:20260422T000524
CREATED:20260330T071852Z
LAST-MODIFIED:20260330T072158Z
UID:18695-1781600400-1781611200@cerefige.univ-lorraine.fr
SUMMARY:Processus de publication et politiques de recherche : un partage d'expérience\, avec le Pr. Garcia Lara
DESCRIPTION:Juan Manuel Garcia Lara est Professeur des Universités à l’Université Carlos III de Madrid en Espagne. Ses recherches portent sur la comptabilité financière\, la gouvernance d’entreprise et la responsabilité sociale. Ancien directeur de département entre 2017 et 2023\, il est rédacteur en chef de Accounting and Business Research (ABR) depuis 2016. \n Durant sa présentation  – en anglais -\, il partagera son expérience sur les défis et les meilleurs pratiques concernant le processus de publication dans ABR\, ainsi que sur la gestion des challenges de la recherche contemporaine par son Université. Par la suite\, il présentera ses recherches sur le thème « Changes to Financial Reporting when Domestic Funding Substitutes Foreign Funding: Evidence from International Sanctions ». \n Cet évènement est organisé dans le cadre des activités de l’Axe Scientifique Prioritaire Gouvernance et Relation d’Emploi\, avec le soutien du pôle SJPEG.
URL:https://cerefige.univ-lorraine.fr/event/processus-de-publication-et-politiques-de-recherche-un-partage-dexperience-avec-le-pr-garcia-lara/
LOCATION:Maison de la Recherche\, Salle des séminaires – Nancy\, 23-25 rue Baron Louis\, Nancy\, 54000\, France
CATEGORIES:Manifestation scientifique
END:VEVENT
END:VCALENDAR